0.00945928400213068
0.000000
0.000000
-0.00945928400213068
-127.124055924849
43.0955740079013
