0.0146962113813921
0.000000
0.000000
-0.0146962113813921
-155.750514332164
64.7601117636941
