0.010253212668679
0.000000
0.000000
-0.010253212668679
-101.48383920843
48.2705081592907
