0.00853049538352271
0.000000
0.000000
-0.00853049538352271
-117.210881597346
34.8366199146618
