0.00943575772372161
0.000000
0.000000
-0.00943575772372161
-101.268010781028
42.9111146406694
