0.00881455854936078
0.000000
0.000000
-0.00881455854936078
-97.0019597972523
37.7105966880105
