0.00984671852805396
0.000000
0.000000
-0.00984671852805396
-111.42608957464
45.7689261280407
