0.0093577159534801
0.000000
0.000000
-0.0093577159534801
-122.263634463224
42.3226946466619
