0.0106835660067471
0.000000
0.000000
-0.0106835660067471
-120.825727469704
50.6136386247115
