0.00951288396661932
0.000000
0.000000
-0.00951288396661932
-75.7131071610884
43.4772877779874
