0.00882044011896307
0.000000
0.000000
-0.00882044011896307
-92.5147229142623
37.7662120333585
