0.00957039572975854
0.000000
0.000000
-0.00957039572975854
-115.313332117254
43.8900741161
