0.00836600563742896
0.000000
0.000000
-0.00836600563742896
-90.7456165521795
32.9754694019664
