0.00875923850319604
0.000000
0.000000
-0.00875923850319604
-79.4993913823908
37.1804119456898
