0.00969263250177557
0.000000
0.000000
-0.00969263250177557
-125.618946852251
44.7416289034757
