0.00847892067649146
0.000000
0.000000
-0.00847892067649146
-104.728439733332
34.2704645191539
