0.00925403941761365
0.000000
0.000000
-0.00925403941761365
-80.2495816317472
41.515232294256
