0.00912672563032672
0.000000
0.000000
-0.00912672563032672
-88.6774545704235
40.4802846596458
