0.00867739590731536
0.000000
0.000000
-0.00867739590731536
-81.0278809287331
36.370943589644
