0.00854761297052557
0.000000
0.000000
-0.00854761297052557
-85.9110080094771
35.0213189974698
