0.00860720547762786
0.000000
0.000000
-0.00860720547762786
-114.247856209495
35.6516793684526
