0.00931277188387786
0.000000
0.000000
-0.00931277188387786
-86.6111737754128
41.9763540510698
