0.00877574573863635
0.000000
0.000000
-0.00877574573863635
-88.7123354825107
37.3399419611151
