0.00892869429154828
0.000000
0.000000
-0.00892869429154828
-122.30514064442
38.7649257590554
