0.00771456631747157
0.000000
0.000000
-0.00771456631747157
-159.493511269309
23.2536481337114
