0.00775501598011365
0.000000
0.000000
-0.00775501598011365
-161.877619961825
24.0257512456721
