0.00998191139914771
0.000000
0.000000
-0.00998191139914771
-73.2465862482244
46.6310335193981
