0.00739890358664771
0.000000
0.000000
-0.00739890358664771
142.595033014471
15.4869993625988
