0.00981925270774146
0.000000
0.000000
-0.00981925270774146
-88.4858643549139
45.5893858753551
