0.00836972323330964
0.000000
0.000000
-0.00836972323330964
-99.8897353432395
33.0194891496138
