0.00930558638139203
0.000000
0.000000
-0.00930558638139203
-104.487020069469
41.9203845908425
