0.00926544189453125
0.000000
0.000000
-0.00926544189453125
-110.987997283936
41.605364074707
