0.00993158513849432
0.000000
0.000000
-0.00993158513849432
-99.7035060258345
46.3142213717374
