0.00879366787997161
0.000000
0.000000
-0.00879366787997161
-120.193701088645
37.5118614058061
