0.00835607355291193
0.000000
0.000000
-0.00835607355291193
-88.423641648726
32.8577413662997
