0.00885961359197443
0.000000
0.000000
-0.00885961359197443
-117.544453111128
38.13296414462
