0.00847245649857953
0.000000
0.000000
-0.00847245649857953
-109.2354987682
34.1986885001443
