0.00977067427201703
0.000000
0.000000
-0.00977067427201703
-76.9903199351918
45.2680486228249
