0.00847439852627839
0.000000
0.000000
-0.00847439852627839
-113.168079612038
34.2202214951949
