0.00853457364169036
0.000000
0.000000
-0.00853457364169036
-101.810102608421
34.8807386641069
