0.00978856867009943
0.000000
0.000000
-0.00978856867009943
-86.4036764387651
45.3869628628817
