0.00824851296164771
0.000000
0.000000
-0.00824851296164771
-102.75042841131
31.5372175251354
