0.00955419367009943
0.000000
0.000000
-0.00955419367009943
-107.667480760054
43.7746265896884
