0.00813290682705964
0.000000
0.000000
-0.00813290682705964
-99.9468071816184
30.0164833207564
