0.00991566051136365
0.000000
0.000000
-0.00991566051136365
-119.203741482821
46.2128499395197
