0.00867331764914771
0.000000
0.000000
-0.00867331764914771
-83.7166619318182
36.3298270069469
