0.0105020141601562
0.000000
0.000000
-0.0105020141601562
-103.905355377197
49.6538027954102
