0.0107901278409091
0.000000
0.000000
-0.0107901278409091
-125.725646584251
51.1568897871538
