0.0170202081853693
0.000000
0.000000
-0.0170202081853693
-152.59654527144
69.7080502596769
