0.0147290593927557
0.000000
0.000000
-0.0147290593927557
-166.285346208052
64.8361260708896
